BEGIN:VCALENDAR
VERSION:2.0
PRODID:-//Humanizar BH - ECPv6.6.4.2//NONSGML v1.0//EN
CALSCALE:GREGORIAN
METHOD:PUBLISH
X-ORIGINAL-URL:https://humanizarbh.com.br
X-WR-CALDESC:Eventos para Humanizar BH
REFRESH-INTERVAL;VALUE=DURATION:PT1H
X-Robots-Tag:noindex
X-PUBLISHED-TTL:PT1H
BEGIN:VTIMEZONE
TZID:America/Sao_Paulo
BEGIN:STANDARD
TZOFFSETFROM:-0300
TZOFFSETTO:-0300
TZNAME:-03
DTSTART:20220101T000000
END:STANDARD
END:VTIMEZONE
BEGIN:VEVENT
DTSTART;TZID=America/Sao_Paulo:20221102T000000
DTEND;TZID=America/Sao_Paulo:20221102T000000
DTSTAMP:20260424T201859
CREATED:20220401T221041Z
LAST-MODIFIED:20220401T221041Z
UID:5939-1667347200-1667347200@humanizarbh.com.br
SUMMARY:FERIADO NACIONAL DE FINADOS
DESCRIPTION:
URL:https://humanizarbh.com.br/evento/feriado-nacional-de-finados/
LOCATION:Gramado\, Gramado\, RS\, Brasil
END:VEVENT
BEGIN:VEVENT
DTSTART;TZID=America/Sao_Paulo:20221106T000000
DTEND;TZID=America/Sao_Paulo:20221106T000000
DTSTAMP:20260424T201859
CREATED:20220401T001958Z
LAST-MODIFIED:20220401T001958Z
UID:5911-1667692800-1667692800@humanizarbh.com.br
SUMMARY:Viagem a Gramado
DESCRIPTION:Gramado é fantástica. Dispensa comentários. Cada detalhe\, seja nas praças públicas ou nas casas privadas\, cada sorriso do povo sulista\, tudo é feito com esmero e carinho para receber os turistas. A cada dia mais e mais empreendimentos são realizados aumentando a nossa experiência turística e a alegria de visitar novamente a região. Sempre na época do natal Luz\, os enfeites de natal encantam e os sonhos afloram. Gramado é um encanto de cidade cujas belezas naturais ou produzidas causam um grande impacto\, junto com a deliciosa culinária local. Vamos em novembro. Venha se divertir novamente.
URL:https://humanizarbh.com.br/evento/viagem-a-gramado-3/
LOCATION:Gramado\, Gramado\, RS\, Brasil
END:VEVENT
BEGIN:VEVENT
DTSTART;TZID=America/Sao_Paulo:20221115T000000
DTEND;TZID=America/Sao_Paulo:20221115T000000
DTSTAMP:20260424T201859
CREATED:20220401T221220Z
LAST-MODIFIED:20220401T221220Z
UID:5941-1668470400-1668470400@humanizarbh.com.br
SUMMARY:FERIADO NACIONAL DA PROCLAMAÇÃO DA REPÚBLICA
DESCRIPTION:
URL:https://humanizarbh.com.br/evento/feriado-nacional-da-proclamacao-da-republica/
LOCATION:Gramado\, Gramado\, RS\, Brasil
END:VEVENT
END:VCALENDAR