BEGIN:VCALENDAR
VERSION:2.0
PRODID:-//Humanizar BH - ECPv6.6.4.2//NONSGML v1.0//EN
CALSCALE:GREGORIAN
METHOD:PUBLISH
X-WR-CALNAME:Humanizar BH
X-ORIGINAL-URL:https://humanizarbh.com.br
X-WR-CALDESC:Eventos para Humanizar BH
REFRESH-INTERVAL;VALUE=DURATION:PT1H
X-Robots-Tag:noindex
X-PUBLISHED-TTL:PT1H
BEGIN:VTIMEZONE
TZID:America/Sao_Paulo
BEGIN:STANDARD
TZOFFSETFROM:-0300
TZOFFSETTO:-0300
TZNAME:-03
DTSTART:20220101T000000
END:STANDARD
END:VTIMEZONE
BEGIN:VEVENT
DTSTART;TZID=America/Sao_Paulo:20220907T000000
DTEND;TZID=America/Sao_Paulo:20220907T000000
DTSTAMP:20260424T235405
CREATED:20220401T220347Z
LAST-MODIFIED:20220401T220414Z
UID:5935-1662508800-1662508800@humanizarbh.com.br
SUMMARY:FERIADO NACIONAL DA INDEPENDÊNCIA
DESCRIPTION:
URL:https://humanizarbh.com.br/evento/feriado-nacional-da-independencia/
LOCATION:Gramado\, Gramado\, RS\, Brasil
END:VEVENT
END:VCALENDAR