BEGIN:VCALENDAR
VERSION:2.0
PRODID:-//Humanizar BH - ECPv6.6.4.2//NONSGML v1.0//EN
CALSCALE:GREGORIAN
METHOD:PUBLISH
X-WR-CALNAME:Humanizar BH
X-ORIGINAL-URL:https://humanizarbh.com.br
X-WR-CALDESC:Eventos para Humanizar BH
REFRESH-INTERVAL;VALUE=DURATION:PT1H
X-Robots-Tag:noindex
X-PUBLISHED-TTL:PT1H
BEGIN:VTIMEZONE
TZID:America/Sao_Paulo
BEGIN:STANDARD
TZOFFSETFROM:-0300
TZOFFSETTO:-0300
TZNAME:-03
DTSTART:20220101T000000
END:STANDARD
END:VTIMEZONE
BEGIN:VEVENT
DTSTART;TZID=America/Sao_Paulo:20221223T000000
DTEND;TZID=America/Sao_Paulo:20221223T000000
DTSTAMP:20260425T095527
CREATED:20220401T221627Z
LAST-MODIFIED:20220401T221644Z
UID:5945-1671753600-1671753600@humanizarbh.com.br
SUMMARY:RECESSO DE FIM DE ANO
DESCRIPTION:Dia 23 não haverá mais expediente. a Humanizar deseja boas festas e retornará no dia 09 de janeiro segunda feira.
URL:https://humanizarbh.com.br/evento/recesso-de-fim-de-ano/
LOCATION:Gramado\, Gramado\, RS\, Brasil
END:VEVENT
BEGIN:VEVENT
DTSTART;TZID=America/Sao_Paulo:20231106T080000
DTEND;TZID=America/Sao_Paulo:20231106T170000
DTSTAMP:20260425T095527
CREATED:20220331T234036Z
LAST-MODIFIED:20220331T234533Z
UID:5901-1699257600-1699290000@humanizarbh.com.br
SUMMARY:Viagem a Gramado
DESCRIPTION:Gramado é fantástica. Dispensa comentários. Cada detalhe\, seja nas praças públicas ou nas casas privadas\, cada sorriso do povo sulista\, tudo é feito com esmero e carinho para receber os turistas. A cada dia mais e mais empreendimentos são realizados aumentando a nossa experiência turística e a alegria de visitar novamente a região. Sempre na época do natal Luz\, os enfeites de natal encantam e os sonhos afloram. Gramado é um encanto de cidade cujas belezas naturais ou produzidas causam um grande impacto\, junto com a deliciosa culinária local. Vamos em novembro. Venha se divertir novamente.
URL:https://humanizarbh.com.br/evento/viagem-a-gramado-2/
LOCATION:Gramado\, Gramado\, RS\, Brasil
END:VEVENT
END:VCALENDAR